Workbook

Sheet FY26 Budget FINAL No NEH
A2: FY26 Budget Updated | D2: FY26 Approved Budget | E2: FY26 Actuals (as of 7/31/26) | F2: Budget Difference | G2: Percentage of Budget | H2: FY26 Notes
A4: REVENUE AND SUPPORT
B5: FY25 Reserves | D5: 300000 | E5: 300000 | F5: 0 | G5: 1 | H5: April FR, Reserve Funds
A7: Revenue | B7: Speaker Co-Pays | D7: 3000 | E7: 2183.97 | F7: =D7-E7 -> 816.03 | G7: =E7/D7 -> 0.72799
A9: Support | B9: FSHC/Mellon Funds Carry Forward | D9: 200000 | F9: =D9-E9 -> 200000 | G9: =E9/D9 -> 0 | H9: Spend by Dec 2026
B10: NEH | D10: 0 | E10: 27888.58 | F10: =D10-E10 -> -27888.58
B11: MT Cultural Trust | D11: 10000 | E11: 12500 | F11: =D11-E11 -> -2500 | G11: =E11/D11 -> 1.25 | H11: MT Poet Lauraete --actually $10,000 per year for two years
B12: Private Foundations | D12: 210910 | E12: =212690-E11 -> 200190 | F12: =D12-E12 -> 10720 | G12: =E12/D12 -> 0.94917263 | H12: See separate sheet for details - $62,000 expected in September 2026 from Engelhard Foundation
B13: Monthly Giving | D13: 4800 | F13: =D13-E13 -> 4800 | G13: =E13/D13 -> 0 | H13: $400 per month currently
B14: Individual Contributions | D14: 136000 | E14: =46840.1+32500+874.27-75.18+161.6 -> 80300.79 | F14: =D14-E14 -> 55699.21 | G14: =E14/D14 -> 0.59044699 | H14: $50k Match + Annual Giving + 100% board giving
B15: Board Travel Donations | D15: 5000 | E15: 0 | F15: =D15-E15 -> 5000 | G15: =E15/D15 -> 0 | H15: These are in-kind
B16: House Parties/Events | D16: 5000 | E16: 0 | F16: =D16-E16 -> 5000 | G16: =E16/D16 -> 0
A18: Other | B18: MCF Endowment | D18: 4000 | E18: 0 | F18: =D18-E18 -> 4000 | G18: =E18/D18 -> 0
B19: FIB Savings Acct Interest | D19: 5000 | E19: 5540.64 | F19: =D19-E19 -> -540.64 | G19: =E19/D19 -> 1.108128
B21: FY26 Total Income | D21: =SUM(D7:D19) -> 583710 | E21: =SUM(E7:E19) -> 328603.98 | F21: =D21-E21 -> 255106.02 | G21: =E21/D21 -> 0.5629576
B23: FY25 Reserves + FY26 Income | D23: =SUM(D5+D21) -> 883710 | E23: =SUM(E5+E21) -> 628603.98 | F23: =D23-E23 -> 255106.02 | G23: =E23/D23 -> 0.71132383
A25: EXPENSES
B26: Payroll | D26: ='Payroll--Confidential'!C10 -> 177618 | E26: 119751.14 | F26: =D26-E26 -> 57866.86 | G26: =E26/D26 -> 0.67420611 | H26: No raises FY26
B27: Payroll Taxes | D27: ='Payroll--Confidential'!D10 -> 17881.8 | E27: =9504.28 -> 9504.28 | F27: =D27-E27 -> 8377.52 | G27: =E27/D27 -> 0.53150578
B28: Health Benefits (Health, Dental, Eye) | D28: ='Payroll--Confidential'!F10 -> 36000 | E28: =27891.28+250 -> 28141.28 | F28: =D28-E28 -> 7858.72 | G28: =E28/D28 -> 0.78170222 | H28: $1500 per employee/per month/ 2 employees. Benefit execption made for Silver and Gold plan holders with BCPS MT
B29: Life Insurance/LTD | D29: 1550 | E29: 266.41 | F29: =D29-E29 -> 1283.59 | G29: =E29/D29 -> 0.17187742 | H29: HM provides 100%
B30: Retirement Benefits | D30: ='Payroll--Confidential'!E10 -> 16981.8 | E30: 11423.92 | F30: =D30-E30 -> 5557.88 | G30: =E30/D30 -> 0.6727155 | H30: 10% of Salary
B31: Other Benefits | D31: 1200 | E31: 0 | F31: =D31-E31 -> 1200 | G31: =E31/D31 -> 0 | H31: This is captured in payroll
A33: Subtotal Personnel | D33: =SUM(D26:D31) -> 251231.6 | E33: =SUM(E26:E31) -> 169087.03 | F33: =D33-E33 -> 82144.57 | G33: =E33/D33 -> 0.67303249
B35: Board Expenses incl. Travel | D35: 20000 | E35: =3099.01+1000 -> 4099.01 | F35: =D35-E35 -> 15900.99 | G35: =E35/D35 -> 0.2049505 | H35: 2 in-person, 1 virtual meeting
B36: Staff Travel | D36: 10000 | E36: 6445.98 | F36: =D36-E36 -> 3554.02 | G36: =E36/D36 -> 0.644598 | H36: Humanities on the Hill, donor meetings, DP site visits, MLA
B37: DP Library Stipends | D37: 30000 | E37: 15500 | F37: =D37-E37 -> 14500 | G37: =E37/D37 -> 0.51666667 | H37: Llewellyn Grant
B38: MT Center for the Book (One Book Montana/Statewide Read) | D38: 5000 | E38: 4117.6 | F38: =D38-E38 -> 882.4 | G38: =E38/D38 -> 0.82352 | H38: Mellon or NEH
B39: MT Poet Laureate Honoraria/Travel | D39: 25910 | E39: 4800 | F39: =D39-E39 -> 21110 | G39: =E39/D39 -> 0.18525666 | H39: MT Cultural Trust +Heyneman + MAC AISC Grant
B40: 250th Speaker Honoraria/Travel | D40: 17500 | E40: 17874.5 | F40: =D40-E40 -> -374.5 | G40: =E40/D40 -> 1.0214 | H40: Total estimated expense to be $36,000.
B41: By the People | D41: 25000 | E41: 15168 | F41: =D41-E41 -> 9832 | G41: =E41/D41 -> 0.60672 | H41: FSCH/Smithsonian Grant, collaboration with MAC
B42: The Study Honoraria | D42: 20000 | E42: 0 | F42: =D42-E42 -> 20000 | G42: =E42/D42 -> 0 | H42: Not occuring
B43: Public Humanities Fellowships | D43: 0 | E43: 0 | F43: =D43-E43 -> 0 | G43: 0 | H43: NEH
B44: Mini-Grants | D44: 0 | E44: 0 | F44: =D44-E44 -> 0 | G44: 0 | H44: NEH
B45: Marketing/Website | D45: 28800 | E45: 21952.85 | F45: =D45-E45 -> 6847.15 | G45: =E45/D45 -> 0.76225174 | H45: Digital Spark Creative (increase Nov 1, 2025)
B46: Development Consulatant | D46: 13000 | E46: 13000 | F46: =D46-E46 -> 0 | G46: =E46/D46 -> 1 | H46: Deb Gill/Alliance Philanthropy
B47: Comms/FR Consultant | D47: 10000 | E47: 0 | F47: =D47-E47 -> 10000 | G47: =E47/D47 -> 0 | H47: Comms and FR support (reduced amount from $20,000 to $10,000.00)
B48: Executive Consultant | D48: 0 | E48: 0 | F48: =D48-E48 -> 0 | G48: 0 | H48: Executive Consultant (reduced amount from $10,000 to $0.00
B49: Liability Insurance including D&O | D49: 2000 | E49: 1482.83 | F49: =D49-E49 -> 517.17 | G49: =E49/D49 -> 0.741415
B50: Accounting/Bookkeeping | D50: 12000 | E50: =11656.3 -> 11656.3 | F50: =D50-E50 -> 343.7 | G50: =E50/D50 -> 0.97135833 | H50: Total estimated expense to be $28,600 with new bookkeeper and fractional CFO
...

Sheet Private Foundations
A1: HM Grant Prospects
A2: Type | B2: Name | C2: Prior Gifts | D2: FY 26 Ask | E2: Proposal Due | F2: Result | G2: Report Due | H2: Notes
A3: Business | B3: Bank of America | H3: Check back for updates on funding priorities
A4: Business | B4: BNSF | D4: 5000 | E4: Rolling | H4: Cultural funding
A5: Business | B5: First Interstate | D5: 5000 | H5: Must be introduced by local branch/MSLA. Tom Severson
A6: Business | B6: MDU Resources | D6: 0 | E6: Rolling | H6: Culture and arts and Civic
A7: Business | B7: US Bank | H7: Research opportunities.
A8: Business | B8: Wells Fargo | H8: Research opportunities.
A9: Business | B9: Barnes and Noble Foundation | H9: One Book Montana?
A10: Business | B10: Montana CU | H10: Research opportunities.
A11: Business | B11: Clearwater CU | H11: Research opportunities.
A12: Business | B12: Northwestern Energy
A13: Total | D13: =SUM(D4:D8) -> 10000
A15: Foundations
B16: Arthur Blank Foundation | D16: 0 | E16: Rolling | H16: Civics/Leadership/Youth--Meet with Tawnya
B17: Browning-Kimball | D17: 0 | F17: Denied | H17: Mission changed. Not a good fit.
B18: Charles Bair | D18: 0 | E18: 45713 | F18: Denied | H18: Central Montana focus. Education
B19: Davidson Family Foundation | D19: 0 | H19: Arts and Culture. Cultivate. GF Focused.
B20: Engelhard Foundation | D20: 65000 | H20: Democracy Project
B21: Phyllis and Dennis Washington | C21: 2021 | D21: 25000 | E21: Rolling | H21: Arts and Culture, youth focused | I21: Application in Process
B22: Gallagher | D22: 0 | E22: 4/30 or 10/31 | H22: Western Montana focused.
B23: Gianforte | E23: Quarterly | H23: Must meet with Catherine in BZN first
B24: Headwaters Foundation | D24: 75000 | E24: 3x per year | F24: Not currently a good fit with their priorities. continue to monitor | H24: Western Montana focused. Met with Erin. Connectors to other Foundations | I24: LOI Submitted; asked to move forward with application process with Feb Deadline. DP, Family Power Fund-- $75,000.00 for one year.
B25: SS Heyneman Foundation | D25: 15910 | E25: 4/30 and 9/30 | H25: Montana Poet Laureate/John Heyneman | I25: $15,910.00 received on 11/06/2025
B26: The Hearthland Foundation
B27: High Stakes Foundation
B28: Llewellen | C28: 2025 | D28: 30000 | E28: 4/30 or 9/30 | F28: $30,000 for DP in FY25 | G28: 46174 | H28: Continue to cultivate and build relationship
B29: Marguerite Casey Foundation
B30: MT Community Foundation/ Local Community Foundations | F30: Not currently a good fit with their priorities. continue to monitor | H30: Met with Mary and others in Dec 2024. Encouraged local foundations for programming. Not currently a fit.
B31: Murdock | H31: Big Asks. Cultivate. Need to research more. Collaborate with other councils? | I31: Strategic Investment Grant LOI Due DEC 26, 2025, asked for 148k over three years
B32: OP WE Edwards | E32: 45717 | F32: Denied | H32: JoAnn Eder in Red Lodge. Former HM Board. Set up meeting. | I32: Introductory email sent 01/12/2025, received correspondance, no grantmaking to new orgs as of 2026
B33: Oro y Plata/Bruce Ennis | H33: Margaret Davis is Bruce's wife. Requires a strong business case.
B34: Otto Bremer | H34: Capital Campaigns/Big Asks
B35: Sample Family Foundation | D35: 0 | H35: Cultivate and research/ Joseph Sample
B36: Steele-Reese | D36: 0 | F36: Denied | H36: Native likely and must be rural. Highly competitive. Met with Linda Tracy. Continue to cultivate relationship.
B37: Treacy | H37: Capital Campaigns/Big Asks
B38: Wallace Foundation | D38: 0 | H38: Based in Missoula. Research and cultivate | I38: LOI mailed on 01/12/2025
B39: Literary Arts Fund | H39: Not eligible for General Operating Support Grant in 2026
B40: Williams Family Foundation | H40: Research opportunities. Democracy focused. Meet with Carol or Whitney Williams
B41: Estimated Total | D41: =SUM(D17:D40) -> 210910
...

Sheet Payroll--Confidential
A1: Humanities Montana
A2: Personnel Budget
A3: FY26
A5: FY 26 PERSONNEL BUDGET | D5: Payroll | E5: Retirement | F5: Health | G5: Other
C6: Salary/Wage | D6: Taxes | E6: Plan | F6: Insurance | G6: Benefits | H6: TOTAL | I6: Comments
A7: Executive Director | B7: Jill Baker | C7: 107500 | D7: =SUM(C7+G7)*0.1 -> 10810 | E7: =SUM(C7*0.1) -> 10750 | F7: =1500*12 -> 18000 | G7: =50*12 -> 600 | H7: =SUM(C7:G7) -> 147660
A8: Program Manager | B8: Jenny Bevil | C8: 62318 | D8: =SUM(C8*0.1) -> 6231.8 | E8: =SUM(C8*0.1) -> 6231.8 | F8: =1500*12 -> 18000 | G8: =50*12 -> 600 | H8: =SUM(C8:G8) -> 93381.6
A9: Student/ Program Assistant | B9: TBD | C9: =SUM(10*15*52) -> 7800 | D9: =SUM((C9+G9)*0.1) -> 840 | E9: 0 | F9: 0 | G9: =50*12 -> 600 | H9: =SUM(C9:G9) -> 9240
A10: FY 26 Total | C10: =SUM(C7:C9) -> 177618 | D10: =SUM(D7:D9) -> 17881.8 | E10: =SUM(E7:E9) -> 16981.8 | F10: =SUM(F7:F9) -> 36000 | G10: =SUM(G7:G9) -> 1800 | H10: =SUM(H7:H9) -> 250281.6

Sheet Dues & Subscriptions
A1: Dues and Subscriptions | C1: FY 25 Budget | D1: Notes 10/9/2025 JB
B2: Adobe Creative Cloud | C2: 480 | D2: Price increaded to $69.00 per month. Subscribed through UM IT at $200/year pp. JB
B3: Amazon Prime | C3: 139 | D3: annual subscription--PAUSED on May 26, 2026 JB
B4: Associated Employers | C4: 675 | D4: annual subscription--DID NOT RENEW JB
B5: Canva | C5: 150 | D5: annual subscription
B6: DocuSign | C6: 100 | D6: annual subscription-- Cancelled JB
B7: Gravity Kit | C7: 399 | D7: annual subscription for website plugins
B8: Intuit annual fee | C8: =625+950 -> 1575 | D8: Moved to QB Online $80/yr through TechSoup.org JB
B9: Intuit employee | C9: 420 | D9: Moved Payroll Manager $50/yr JB
B10: Last Pass | C10: 48 | D10: Cancelled JB
B11: Grant Station | C11: 95 | D11: separated from MNA dues
B12: Microsoft | C12: 0 | D12: UM provides
B13: Montana Nonprofit Association | C13: 325 | D13: Keep- Paid
B14: MT Secretary of State | C14: 35 | D14: annual report
B15: Misc
B16: TOTAL | C16: =SUM(C2:C15) -> 4441

Sheet Administrative Expenses
B2: 2025 Budget | C2: Notes/Questions
A3: General and Administrative Expenses
A4: Endowment Expense | B4: 1200
A5: Database Expense- Bloomerang | B5: 3200 | C5: Keep
A6: Network Expense - Foundant | B6: 5350 | C6: Keep
A7: Bank and Credit Card Fees | B7: 100
A8: Total | B8: =SUM(B3:B7) -> 9850

Sheet Est Closing Costs
A1: Vendor | B1: Amount | C1: Notes
A2: Final Payroll | B2: 30000 | C2: Estimated Costs; Include payouts for sick and vacation
A3: University of Montana | B3: 10000 | C3: Final Lease payment, Parking, IT Support
A4: Foundant | B4: 5350 | C4: Payout contract, request refund, archive records
A5: Bloomerang | B5: 3200 | C5: Payout contract, request refund, archive records
A6: Other Contracts | B6: 5000 | C6: Estimated Costs: Accountant, Digital Spark Creative, other?
A7: Subscriptions | B7: 4441 | C7: Cancel or payout all subscriptions
A8: Legal Fees | B8: 5000 | C8: estimated cost; need bid from firm
A9: FINAL Audit costs | B9: 30000 | C9: estimated cost; need bid from firm
A10: Other Costs | B10: TBD | C10: This may not be the final list. Add additional costs if needed.
B11: =SUM(B2:B9) -> 92991 | C11: MUST LEAVE THIS AMOUNT FOR FINAL CLOSING COSTS
A15: Assets to Disburse
A16: Montana Community Foundation | B16: 100000 | C16: Update to Current Balance
A17: FIB Account | B17: TBD | C17: Balance left after paying out closing costs
A19: *Determine what nonprofit to leave assets to (related to humanities mission). Need board approval.
