Workbook

Sheet FY27 Budget DRAFT
E1: as of | F1: 46234
A2: FY27 Budget Draft | D2: 2026 Budget | E2: 2026 Actual | F2: % of Budget | G2: 2027 Proposed | I2: Notes FY27 | J2: Notes FY26
A4: REVENUE AND SUPPORT
A5: Carry Over
B6: Heyneman Foundation | G6: 18000 | I6: MTPL
B7: Artists in the schools and classrooms - MAC | G7: 2500
B8: Llewyellen Foundation | G8: 30000 | I8: Democracy Project - 30k Received in July 2026
B9: Engelhard Foundation | G9: 62000 | I9: Democracy Project $62k should be received in September 2026 + any other remaining Engelhard from FY25-26
B10: MT Cultural Trust - MAC | G10: 7500 | I10: Speakers Beaureu
A11: Subtotal: Carry Over | D11: 300000 | G11: =SUM(G6:G10) -> 120000 | J11: April FR, Reserve Funds
A13: Income
B14: Speaker Co-Pays | D14: 3000 | E14: 2183.97 | F14: =E14/D14 -> 0.72799 | G14: 3000
B15: NEH | E15: 27889 | G15: 375000 | I15: NEH may also issue an FY27 NOA at roughly 40% of the FY25 level, which would be approximately $366,463. Some of this money would likely carry into FY28.
B16: MT Cultural Trust | D16: 10000 | E16: 12500 | F16: =E16/D16 -> 1.25 | G16: 10000 | J16: MT Poet Lauraete --actually $10,000 per year for two years
B17: Private Foundations | D17: 210910 | E17: 200190 | F17: =E17/D17 -> 0.94917263 | G17: 200000 | J17: See separate sheet for details
B18: Individual Contributions | D18: 136000 | E18: 80300 | F18: =E18/D18 -> 0.59044118 | G18: 50000 | J18: $50k Match + Annual Giving + 100% board giving
B19: House Parties/Events | D19: 5000 | F19: =E19/D19 -> 0 | G19: 5000
B20: Interest Income | D20: 5000 | E20: 5540.64 | F20: =E20/D20 -> 1.108128 | G20: 15000
A21: Subtotal: Income | D21: =SUM(D14:D20) -> 369910 | G21: =SUM(G14:G20) -> 658000
A23: TOTAL REVENUE | D23: =SUM(D14:D20) -> 369910 | E23: =SUM(E14:E20) -> 328603.61 | F23: =E23/D23 -> 0.88833395 | G23: =SUM(G11,G14:G20) -> 778000
A25: EXPENSES
A26: Personnel
B27: Payroll | D27: ='Payroll--Confidential'!C10 -> 177618 | E27: 113223 | F27: =E27/D27 -> 0.63745229 | G27: =Payroll!D9 -> 175700 | J27: No raises FY26
B28: Payroll Taxes | D28: ='Payroll--Confidential'!D10 -> 17881.8 | E28: 16855.88 | F28: =E28/D28 -> 0.9426277 | G28: =Payroll!E9 -> 17570
B29: Health Benefits (Health, Dental, Eye) | D29: ='Payroll--Confidential'!F10 -> 36000 | E29: 27706 | F29: =E29/D29 -> 0.76961111 | G29: =Payroll!G9 -> 43200 | J29: $1500 per employee/per month/ 2 employees
B30: Life Insurance/LTD | D30: 1550 | E30: 0 | F30: =E30/D30 -> 0 | J30: HM provides 100%
B31: Retirement Benefits | D31: ='Payroll--Confidential'!E10 -> 16981.8 | E31: 15426 | F31: =E31/D31 -> 0.90838427 | G31: =Payroll!F9 -> 17570 | J31: 10% of Salary
B32: Other Benefits | D32: 1200 | E32: 0 | F32: =E32/D32 -> 0 | I32: This I believe appears in payroll directly, since it is a stipend it does not appear separately. | J32: Cell phone stipend
A34: Personnel
B35: Payroll | D35: 177618 | E35: 119751.14 | G35: =Payroll!D9+1200 -> 176900
B36: Payroll Taxes | D36: 17881.8 | E36: 9504.28 | G36: =Payroll!E9 -> 17570
B37: Health Benefits (Health, Dental, Eye) | D37: 36000 | E37: 28141.28 | G37: =Payroll!G9 -> 43200
B38: Life Insurance/LTD | D38: 1550 | E38: 266.41 | G38: 1550
B39: Retirement Benefits | D39: 16981.8 | E39: 11423.92 | G39: =Payroll!F9 -> 17570
A40: Subtotal: Personnel | D40: =SUM(D35:D39) -> 250031.6 | G40: =SUM(G35:G39) -> 256790
A42: Operating Expenses
B43: Board Expenses incl. Travel | D43: 20000 | E43: 6445.98 | F43: =E43/D43 -> 0.322299 | G43: 15000 | J43: 2 in-person, 1 virtual meeting
B44: Staff Travel | D44: 10000 | E44: 6445.98 | F44: =E44/D44 -> 0.644598 | G44: 5000 | J44: Humanities on the Hill, donor meetings, DP site visits, MLA
B45: Professional Services: Marketing & Communications | D45: 28800 | E45: 21952.85 | F45: =E45/D45 -> 0.76225174 | G45: =2400*12 -> 28800 | I45: Digital Spark Creative - outsourced Comms department | J45: Digital Spark Creative (increase Nov 1, 2025)
B46: Professional Services: Development Consultant | D46: 13000 | E46: 13000 | F46: =E46/D46 -> 1 | G46: 15000 | I46: Adjustment made | J46: Deb Gill/Alliance Philanthropy
...

Sheet Budget and Income by Program
A1: FY27 Expenses
A2: Program | B2: Expense | C2: %age
A3: Operations | B3: =Payroll!M9+'FY27 Budget DRAFT'!G59 -> 342230 | C3: =B3/$B$9 -> 0.57463564
A4: Democracy Project | B4: =Payroll!N9+'FY27 Budget DRAFT'!G63 -> 105415 | C4: =B4/$B$9 -> 0.17700148
A5: MT Center for the Book | B5: =Payroll!O9+'FY27 Budget DRAFT'!G67 -> 77915 | C5: =B5/$B$9 -> 0.13082645
A6: MT Poet Laureate | B6: =Payroll!P9+'FY27 Budget DRAFT'!G71 -> 25000 | C6: =B6/$B$9 -> 0.041977299
A7: Our Montana Voices | B7: =Payroll!Q9+'FY27 Budget DRAFT'!G74 -> 40000 | C7: =B7/$B$9 -> 0.067163678
A8: Big Sky Reads (microgrants) | B8: =Payroll!R9+'FY27 Budget DRAFT'!G78 -> 5000 | C8: =B8/$B$9 -> 0.0083954597
A9: TOTAL | B9: =SUM(B3:B8) -> 595560
A12: Income Streams | B12: Operations/Unrestricted | C12: DP | D12: MTC4B | E12: MTPL | F12: OMV | G12: BSR | H12: TOTAL
A13: NEH | B13: =370000 -> 370000 | G13: 5000 | H13: =SUM(B13:G13) -> 375000
A14: MT Cultural Trust | F14: 10000 | H14: =SUM(B14:G14) -> 10000
A15: Llewellen Foundation | C15: 30000 | H15: =SUM(B15:G15) -> 30000
A16: Engelhard Foundation (carry forward) | C16: 62000 | H16: =SUM(B16:G16) -> 62000
A17: Headwaters Foundation (carry forward) | B17: 50000 | H17: =SUM(B17:G17) -> 50000
A18: Heyneman Foundation | E18: 18000 | H18: =SUM(B18:G18) -> 18000
A19: The Lewellyn Foundation | C19: 30000 | H19: =SUM(B19:G19) -> 30000
A20: The Charles Engelhard Foundation (new) | C20: 50000 | H20: =SUM(B20:G20) -> 50000
A21: Cole Gwinn Grant | D21: 2500 | H21: =SUM(B21:G21) -> 2500
A22: COSLA - NBF Grant | D22: 2500 | H22: =SUM(B22:G22) -> 2500
A23: NEH - National Book Festival Grant | D23: 5000 | H23: =SUM(B23:G23) -> 5000
A24: MAC - Artists in Classrooms and Schools Grant | E24: 2500 | H24: =SUM(B24:G24) -> 2500
A25: The Susan Scott Heyneman Foundation | E25: 15000 | H25: =SUM(B25:G25) -> 15000
A26: MAC - Montana Cultural Trust | F26: 10000 | H26: =SUM(B26:G26) -> 10000
A27: First Interstate Bank Grant | F27: 2500 | H27: =SUM(B27:G27) -> 2500
A28: The Washington Foundation | F28: 20000 | H28: =SUM(B28:G28) -> 20000
A29: Headwaters Foundation | B29: 75000 | H29: =SUM(B29:G29) -> 75000
A30: Unrestricted Individual Contributions | B30: 50000 | H30: =SUM(B30:G30) -> 50000
A31: Speaker Co-Pays | B31: 3000 | H31: =SUM(B31:G31) -> 3000
A32: TOTAL | B32: =SUM(B13:B31) -> 548000 | C32: =SUM(C13:C31) -> 172000 | D32: =SUM(D13:D31) -> 10000 | E32: =SUM(E13:E31) -> 35500 | F32: =SUM(F13:F31) -> 42500 | G32: =SUM(G13:G31) -> 5000 | H32: =SUM(H13:H31) -> 813000
A34: Expected Spend | B34: 327563.33 | C34: 105415 | D34: 77915 | E34: 25000 | F34: 40000 | G34: 5000 | H34: =SUM(B34:G34) -> 580893.33
A36: Difference | B36: =B32-B34 -> 220436.67 | C36: =C32-C34 -> 66585 | D36: =D32-D34 -> -67915 | E36: =E32-E34 -> 10500 | F36: =F32-F34 -> 2500 | G36: =G32-G34 -> 0 | H36: =SUM(B36:G36) -> 232106.67

Sheet Payroll
A1: Humanities Montana | E1: as of | F1: 46203
A2: Personnel Budget | F2: % of Budget | J2: Notes FY27 | K2: Notes FY26
A3: FY27
A5: FY 27 PERSONNEL BUDGET | E5: Payroll | F5: Retirement | G5: Health | H5: Other | M5: Programming Totals | U5: Programming Breakdown
C6: FY26 | D6: FY27 | E6: Taxes | F6: Plan | G6: Insurance | H6: Benefits | I6: TOTAL | J6: Comments | K6: Comments | M6: General Administration | N6: Democracy Project | O6: MT Center for the Book | P6: MT Poet Laureate | Q6: Our Montana Voices | R6: Big Sky Reads (microgrants) | S6: TOTAL | U6: General Administration | V6: Democracy Project | W6: MT Center for the Book | X6: MT Poet Laureate | Y6: Our Montana Voices | Z6: Big Sky Reads (microgrants)
A7: Executive Director | B7: John Knight | C7: 90000 | D7: 107500 | E7: =D7*$B$12 -> 10750 | F7: =D7*$B$13 -> 10750 | G7: =$B$14*12 -> 21600 | H7: =B15*12 -> 600 | I7: =SUM(D7:H7) -> 151200 | M7: =$I7*U7 -> 113400 | N7: =$I7*V7 -> 18900 | O7: =$I7*W7 -> 18900 | P7: =$I7*X7 -> 0 | Q7: =$I7*Y7 -> 0 | R7: =$I7*Z7 -> 0 | S7: =SUM(M7:R7) -> 151200 | U7: 0.75 | V7: 0.125 | W7: 0.125 | X7: 0 | Y7: 0 | Z7: 0
A8: Program Director | B8: Jenny Bevill | C8: 62000 | D8: =C8*1.1 -> 68200 | E8: =D8*$B$12 -> 6820 | F8: =D8*$B$13 -> 6820 | G8: =$B$14*12 -> 21600 | H8: =B15*12 -> 600 | I8: =SUM(D8:H8) -> 104040 | M8: =$I8*U8 -> 26010 | N8: =$I8*V8 -> 39015 | O8: =$I8*W8 -> 39015 | P8: =$I8*X8 -> 0 | Q8: =$I8*Y8 -> 0 | R8: =$I8*Z8 -> 0 | S8: =SUM(M8:R8) -> 104040 | U8: 0.25 | V8: 0.375 | W8: 0.375 | X8: 0 | Y8: 0 | Z8: 0
A9: FY 26 Total | C9: =SUM(C7:C8) -> 152000 | D9: =SUM(D7:D8) -> 175700 | E9: =SUM(E7:E8) -> 17570 | F9: =SUM(F7:F8) -> 17570 | G9: =SUM(G7:G8) -> 43200 | I9: =SUM(I7:I8) -> 255240 | M9: =SUM(M7:M8) -> 139410 | N9: =SUM(N7:N8) -> 57915 | O9: =SUM(O7:O8) -> 57915 | P9: =SUM(P7:P8) -> 0 | Q9: =SUM(Q7:Q8) -> 0 | R9: =SUM(R7:R8) -> 0 | S9: =SUM(M9:R9) -> 255240
A12: Payroll taxes | B12: 0.1
A13: Retirement match | B13: 0.1
A14: Health Insurance Monthly | B14: =1500*1.2 -> 1800 | C14: increase by 12%, no exceptions to policy
A15: Other benefits monthly | B15: 50
A17: Notes
A18: Personal budget assumes Program Development Director receives a 10% salary increase to align with 2025 Programs Director compensation level; and ED salary returns to 2025 compensation level.
A19: Salary adjustments for ED through evaluation and recommendation with Executive Committee. Salary Adjustments for Program Development Director through ED evaluation with recommendations provided to Executive Committee.
A20: Health Insurance Monthly costs recommended through Executive Committee
A21: Staff will provide documentation to Executive Committee for Salary and Health Insurance Adjustments to be considered.

Sheet Payroll--Confidential
A1: Humanities Montana
A2: Personnel Budget
A3: FY26
A5: FY 26 PERSONNEL BUDGET | D5: Payroll | E5: Retirement | F5: Health | G5: Other
C6: Salary/Wage | D6: Taxes | E6: Plan | F6: Insurance | G6: Benefits | H6: TOTAL | I6: Comments
A7: Executive Director | B7: Jill Baker | C7: 107500 | D7: =SUM(C7+G7)*0.1 -> 10810 | E7: =SUM(C7*0.1) -> 10750 | F7: =1500*12 -> 18000 | G7: =50*12 -> 600 | H7: =SUM(C7:G7) -> 147660
A8: Program Manager | B8: Jenny Bevil | C8: 62318 | D8: =SUM(C8*0.1) -> 6231.8 | E8: =SUM(C8*0.1) -> 6231.8 | F8: =1500*12 -> 18000 | G8: =50*12 -> 600 | H8: =SUM(C8:G8) -> 93381.6
A9: Student/ Program Assistant | B9: TBD | C9: =SUM(10*15*52) -> 7800 | D9: =SUM((C9+G9)*0.1) -> 840 | E9: 0 | F9: 0 | G9: =50*12 -> 600 | H9: =SUM(C9:G9) -> 9240
A10: FY 26 Total | C10: =SUM(C7:C9) -> 177618 | D10: =SUM(D7:D9) -> 17881.8 | E10: =SUM(E7:E9) -> 16981.8 | F10: =SUM(F7:F9) -> 36000 | G10: =SUM(G7:G9) -> 1800 | H10: =SUM(H7:H9) -> 250281.6

Sheet Private Foundations Matrix
A1: Grants Matrix - FY27 | H1: as of | I1: 46203
A2: Foundation Name | B2: Request Amount | C2: LOI or Application? | D2: Confidence | E2: Restricted | F2: Reporting Requirements | G2: Applied Y/N | H2: Submission Date | I2: % of Budget | J2: Amount Recieved | L2: Notes FY27 | M2: Notes FY26
A3: MAC - Artists in Classrooms and Schools Grant | B3: 2500 | C3: Application | D3: High | E3: MTPL | F3: High
A4: MAC - Montana Cultural Trust | B4: 10000 | C4: Application | D4: High | E4: OMV | F4: High
A5: The OPE Edwards Foundation | B5: 0 | C5: Letter / LOI
A6: The Wallace Foundation | B6: 0 | C6: Letter / LOI
A7: The Bair Foundation | B7: 25000 | C7: Application | D7: Very Low | E7: OMV | F7: Low
A8: Murdock Charitable Trust | B8: 100000 | C8: LOI | D8: Very Low | E8: Unrestricted | F8: Low
A9: Headwaters Foundation | B9: 75000 | C9: Application | D9: Medium High | E9: Unrestricted | F9: Low
A10: First Interstate Bank Grant | B10: 2500 | C10: Application | D10: High | E10: OMV | F10: Medium | J10: =SUM(J5:J9) -> 0
A11: The Lewellyn Foundation | B11: 30000 | C11: LOI / Application | D11: Medium High | E11: DP | F11: Low
A12: The Washington Foundation | B12: 20000 | C12: Application | D12: Medium High | E12: OMV | F12: Medium
A13: The Susan Scott Heyneman Foundation | B13: 15000 | C13: Application | D13: Medium High | E13: MTPL | F13: Low
A14: The Charles Engelhard Foundation | B14: 50000 | C14: Application/ Letter | D14: Medium | E14: DP | F14: Low
A15: Cole Gwinn Grant | B15: 2500 | C15: Application | D15: Medium High | E15: MTC4B | F15: Low
A16: Montana Community Foundation | B16: 25000 | C16: Application | D16: Low | E16: OMV | F16: Medium
A17: COSLA - NBF Grant | B17: 2500 | C17: Application | D17: High | E17: MTC4B | F17: Low
A18: NEH - National Book Festival Grant | B18: 5000 | C18: Application - Councils Only | D18: High | E18: MTC4B | F18: Low
A19: Stretch Goal | B19: =SUM(B3:B18) -> 365000 | I19: Total: | J19: =SUM(J3:J18) -> 0
A20: Goal | B20: 200000
J27: =SUM(J10,J12:J24) -> 0
J39: =SUM(J32:J37) -> 0
B43: Professional Services: Marketing & Communications | L43: Formerly "website"
B44: Professional Services: Development Consultant
B45: Professional Services: CFO | G45: 0 | H45: 0 | I45: 0 | J45: =48000 -> 48000
B46: Comms/FR Consultant | L46: What is this?
J48: =(1200*12)*1.1 -> 15840
G60: =SUM(G61:G62) -> 0 | H60: =SUM(H61:H62) -> 0 | J60: =SUM(J61:J62) -> 0
G63: =SUM(G64:G66) -> 0 | H63: =SUM(H64:H66) -> 0 | J63: =SUM(J64:J66) -> 0
B81: TOTAL EXPENSES

Sheet Dues & Subscriptions
A1: Subscriptions and Software | C1: FY 25 Budget | D1: FY27 | E1: as of | F1: 46203
B2: Adobe Creative Cloud | C2: 480 | E2: Price increaded to $69.00 per month. Subscribed through UM IT at $200/year pp. JB | F2: % of Budget | I2: Notes FY27 | J2: Notes FY26
B3: Amazon Prime | C3: 139 | D3: 0 | E3: annual subscription--PAUSED on May 26, 2026 JB
B4: Associated Employers | C4: 675 | D4: 0 | E4: annual subscription--DID NOT RENEW JB
B5: Canva | C5: 150 | D5: 0 | E5: annual subscription
B6: DocuSign | C6: 100 | D6: 0 | E6: annual subscription-- Cancelled JB
B7: Gravity Kit | C7: 399 | E7: annual subscription for website plugins
B8: Intuit annual fee | C8: =625+950 -> 1575 | D8: 80 | E8: Moved to QB Online $80/yr through TechSoup.org JB
B9: Intuit employee | C9: 420 | D9: 50 | E9: Moved Payroll Manager $50/yr JB
B10: Last Pass | C10: 48 | D10: 0 | E10: Cancelled JB | G10: =SUM(G5:G9) -> 0
B11: Grant Station | C11: 95 | D11: 0 | E11: separated from MNA dues
B12: Microsoft | C12: 0 | D12: 0 | E12: UM provides
B13: Bloomerang | C13: 3200 | D13: 3200
B14: Foundant | C14: 5500 | D14: 6000
B16: Misc
B17: TOTAL | C17: =SUM(C2:C16) -> 12781 | D17: =SUM(D2:D16) -> 9330
A30: Dues
B31: Montana Nonprofit Association | C31: 325 | D31: 325
B32: MT Secretary of State | C32: 35 | D32: 35

Sheet Administrative Expenses
E1: as of | F1: 46203
B2: 2026 Budget | C2: 2026 Actual | D2: 2027 Proposed | E2: Notes/Questions | F2: % of Budget | I2: Notes FY27 | J2: Notes FY26
A3: General and Administrative Expenses
A4: Endowment Expense | B4: 1200
A5: Database Expense- Bloomerang | B5: 3200 | C5: 1825 | E5: Keep
A6: Network Expense - Foundant | B6: 5350 | C6: 5676 | E6: Keep
A7: Bank and Credit Card Fees | B7: 100
A8: Total | B8: =SUM(B3:B7) -> 9850
G10: =SUM(G5:G9) -> 0
G27: =SUM(G10,G12:G24) -> 0
G39: =SUM(G32:G37) -> 0
B43: Professional Services: Marketing & Communications | I43: Formerly "website"
B44: Professional Services: Development Consultant
B45: Professional Services: CFO | D45: 0 | E45: 0 | F45: 0 | G45: =48000 -> 48000
B46: Comms/FR Consultant | I46: What is this?
G48: =(1200*12)*1.1 -> 15840
D60: =SUM(D61:D62) -> 0 | E60: =SUM(E61:E62) -> 0 | G60: =SUM(G61:G62) -> 0
D63: =SUM(D64:D66) -> 0 | E63: =SUM(E64:E66) -> 0 | G63: =SUM(G64:G66) -> 0
B81: TOTAL EXPENSES

Sheet Est Closing Costs
A1: Vendor | B1: Amount | C1: Notes | E1: as of | F1: 46203
A2: Final Payroll | B2: 30000 | C2: Estimated Costs; Include payouts for sick and vacation | F2: % of Budget | I2: Notes FY27 | J2: Notes FY26
A3: University of Montana | B3: 10000 | C3: Final Lease payment, Parking, IT Support
A4: Foundant | B4: 5350 | C4: Payout contract, request refund, archive records
A5: Bloomerang | B5: 3200 | C5: Payout contract, request refund, archive records
A6: Other Contracts | B6: 5000 | C6: Estimated Costs: Accountant, Digital Spark Creative, other?
A7: Subscriptions | B7: 4441 | C7: Cancel or payout all subscriptions
A8: Legal Fees | B8: 5000 | C8: estimated cost; need bid from firm
A9: FINAL Audit costs | B9: 30000 | C9: estimated cost; need bid from firm
A10: Other Costs | B10: TBD | C10: This may not be the final list. Add additional costs if needed. | G10: =SUM(G5:G9) -> 0
B11: =SUM(B2:B9) -> 92991 | C11: MUST LEAVE THIS AMOUNT FOR FINAL CLOSING COSTS
A15: Assets to Disburse
A16: Montana Community Foundation | B16: 100000 | C16: Update to Current Balance
A17: FIB Account | B17: TBD | C17: Balance left after paying out closing costs
A19: *Determine what nonprofit to leave assets to (related to humanities mission). Need board approval.
G27: =SUM(G10,G12:G24) -> 0
G39: =SUM(G32:G37) -> 0
B43: Professional Services: Marketing & Communications | I43: Formerly "website"
B44: Professional Services: Development Consultant
B45: Professional Services: CFO | D45: 0 | E45: 0 | F45: 0 | G45: =48000 -> 48000
B46: Comms/FR Consultant | I46: What is this?
G48: =(1200*12)*1.1 -> 15840
D60: =SUM(D61:D62) -> 0 | E60: =SUM(E61:E62) -> 0 | G60: =SUM(G61:G62) -> 0
D63: =SUM(D64:D66) -> 0 | E63: =SUM(E64:E66) -> 0 | G63: =SUM(G64:G66) -> 0
B81: TOTAL EXPENSES

Sheet Private Foundations - FY26
A1: HM Grant Prospects | E1: as of | F1: 46203
A2: Type | B2: Name | C2: Prior Gifts | D2: FY 26 Ask | E2: Proposal Due | F2: % of Budget | G2: Report Due | I2: Notes FY27 | J2: Notes FY26
A3: Business | B3: Bank of America
A4: Business | B4: BNSF | D4: 5000 | E4: Rolling
A5: Business | B5: First Interstate | D5: 5000
A6: Business | B6: MDU Resources | D6: 0 | E6: Rolling
A7: Business | B7: US Bank
A8: Business | B8: Wells Fargo
A9: Business | B9: Barnes and Noble Foundation
A10: Business | B10: Montana CU | G10: =SUM(G5:G9) -> 0
A11: Business | B11: Clearwater CU
A12: Business | B12: Northwestern Energy
A13: Total | D13: =SUM(D4:D8) -> 10000
A15: Foundations
B16: Arthur Blank Foundation | D16: 0 | E16: Rolling
B17: Browning-Kimball | D17: 0 | F17: Denied
B18: Charles Bair | D18: 0 | E18: 45713 | F18: Denied
B19: Davidson Family Foundation | D19: 0
B20: Engelhard Foundation | D20: 65000
B21: Phyllis and Dennis Washington | C21: 2021 | D21: 25000 | E21: Rolling | H21: Application in Process
B22: Gallagher | D22: 0 | E22: 4/30 or 10/31
B23: Gianforte | E23: Quarterly
B24: Headwaters Foundation | D24: 75000 | E24: 3x per year | F24: Not currently a good fit with their priorities. continue to monitor | H24: LOI Submitted; asked to move forward with application process with Feb Deadline. DP, Family Power Fund-- $75,000.00 for one year.
B25: SS Heyneman Foundation | D25: 15910 | E25: 4/30 and 9/30 | H25: $15,910.00 received on 11/06/2025
B26: The Hearthland Foundation
B27: High Stakes Foundation | G27: =SUM(G10,G12:G24) -> 0
B28: Llewellen | C28: 2025 | D28: 30000 | E28: 4/30 or 9/30 | F28: $30,000 for DP in FY25 | G28: 46174
B29: Marguerite Casey Foundation
B30: MT Community Foundation/ Local Community Foundations | F30: Not currently a good fit with their priorities. continue to monitor
B31: Murdock | H31: Strategic Investment Grant LOI Due DEC 26, 2025, asked for 148k over three years
B32: OP WE Edwards | E32: 45717 | F32: Denied | H32: Introductory email sent 01/12/2025, received correspondance, no grantmaking to new orgs as of 2026
B33: Oro y Plata/Bruce Ennis
B34: Otto Bremer
B35: Sample Family Foundation | D35: 0
B36: Steele-Reese | D36: 0 | F36: Denied
B37: Treacy
B38: Wallace Foundation | D38: 0 | H38: LOI mailed on 01/12/2025
G39: =SUM(G32:G37) -> 0
B40: Williams Family Foundation
B41: Estimated Total | D41: =SUM(D17:D40) -> 210910
...

Sheet FY26 Budget FINAL No NEH
E1: as of | F1: 46203
A2: FY26 Budget Updated | D2: No NEH | F2: % of Budget | I2: Notes FY27 | J2: Notes FY26
A4: REVENUE AND SUPPORT
B5: FY25 Reserves | D5: 300000 | F5: April FR, Reserve Funds
A7: Revenue | B7: Speaker Co-Pays | D7: 3000
A9: Support | B9: FSHC/Mellon Funds Carry Forward | D9: 200000 | F9: Spend by Dec 2026
B10: NEH GOS Grant | D10: 0 | G10: =SUM(G5:G9) -> 0
B11: MT Cultural Trust | D11: 10000 | F11: MT Poet Lauraete --actually $10,000 per year for two years
B12: Private Foundations | D12: 210910 | F12: See separate sheet for details
B13: Monthly Giving | D13: 4800 | F13: $400 per month currently
B14: Individual Contributions | D14: 136000 | F14: $50k Match + Annual Giving + 100% board giving
B15: Board Travel Donations | D15: 5000
B16: House Parties/Events | D16: 5000
A18: Other | B18: MCF Endowment | D18: 4000
B19: FIB Savings Acct Interest | D19: 5000
B21: FY26 Total Income | D21: =SUM(D7:D19) -> 583710
B23: FY25 Reserves + FY26 Income | D23: =SUM(D5+D21) -> 883710
A25: EXPENSES
B26: Payroll | D26: ='Payroll--Confidential'!C10 -> 177618 | F26: No raises FY26
B27: Payroll Taxes | D27: ='Payroll--Confidential'!D10 -> 17881.8 | G27: =SUM(G10,G12:G24) -> 0
B28: Health Benefits (Health, Dental, Eye) | D28: ='Payroll--Confidential'!F10 -> 36000 | F28: $1500 per employee/per month/ 2 employees
B29: Life Insurance/LTD | D29: 1550 | F29: HM provides 100%
B30: Retirement Benefits | D30: ='Payroll--Confidential'!E10 -> 16981.8 | F30: 10% of Salary
B31: Other Benefits | D31: 1200 | F31: Cell phone stipend
A33: Subtotal Personnel | D33: =SUM(D26:D31) -> 251231.6
B35: Board Expenses incl. Travel | D35: 20000 | F35: 2 in-person, 1 virtual meeting
B36: Staff Travel | D36: 10000 | F36: Humanities on the Hill, donor meetings, DP site visits, MLA
B37: DP Library Stipends | D37: 30000 | F37: Llewellyn Grant
B38: MT Center for the Book (One Book Montana/Statewide Read) | D38: 5000 | F38: Mellon or NEH
D39: 25910 | F39: MT Cultural Trust +Heyneman + MAC AISC Grant | G39: =SUM(G32:G37) -> 0
B40: 250th Speaker Honoraria/Travel | D40: 17500 | F40: MT250 Partial Award
B41: By the People | D41: 25000 | F41: FSCH/Smithsonian Grant, collaboration with MAC
B42: Public Humanities Fellowships | D42: 0 | F42: NEH
B43: Professional Services: Marketing & Communications | I43: Formerly "website"
B44: Professional Services: Development Consultant
B45: Professional Services: CFO | D45: 0 | E45: 0 | F45: 0 | G45: =48000 -> 48000
B46: Comms/FR Consultant | I46: What is this?
G48: =(1200*12)*1.1 -> 15840
A59: Mini-Grants | D59: 0 | F59: NEH
A60: Marketing/Website | D60: =SUM(D61:D62) -> 23000 | E60: =SUM(E61:E62) -> 0 | F60: Deb Gill/Alliance Philanthropy | G60: =SUM(G61:G62) -> 0
...
